BEGIN:VCALENDAR
VERSION:2.0
PRODID:-//Lehrhaus Marktheidenfeld - ECPv6.15.18//NONSGML v1.0//EN
CALSCALE:GREGORIAN
METHOD:PUBLISH
X-WR-CALNAME:Lehrhaus Marktheidenfeld
X-ORIGINAL-URL:https://lehrhaus.de
X-WR-CALDESC:Veranstaltungen für Lehrhaus Marktheidenfeld
REFRESH-INTERVAL;VALUE=DURATION:PT1H
X-Robots-Tag:noindex
X-PUBLISHED-TTL:PT1H
BEGIN:VTIMEZONE
TZID:Europe/Berlin
BEGIN:DAYLIGHT
TZOFFSETFROM:+0100
TZOFFSETTO:+0200
TZNAME:CEST
DTSTART:20250330T010000
END:DAYLIGHT
BEGIN:STANDARD
TZOFFSETFROM:+0200
TZOFFSETTO:+0100
TZNAME:CET
DTSTART:20251026T010000
END:STANDARD
BEGIN:DAYLIGHT
TZOFFSETFROM:+0100
TZOFFSETTO:+0200
TZNAME:CEST
DTSTART:20260329T010000
END:DAYLIGHT
BEGIN:STANDARD
TZOFFSETFROM:+0200
TZOFFSETTO:+0100
TZNAME:CET
DTSTART:20261025T010000
END:STANDARD
BEGIN:DAYLIGHT
TZOFFSETFROM:+0100
TZOFFSETTO:+0200
TZNAME:CEST
DTSTART:20270328T010000
END:DAYLIGHT
BEGIN:STANDARD
TZOFFSETFROM:+0200
TZOFFSETTO:+0100
TZNAME:CET
DTSTART:20271031T010000
END:STANDARD
END:VTIMEZONE
BEGIN:VEVENT
DTSTART;TZID=Europe/Berlin:20260619T190000
DTEND;TZID=Europe/Berlin:20260620T170000
DTSTAMP:20260419T192425
CREATED:20260330T143424Z
LAST-MODIFIED:20260330T144512Z
UID:10000114-1781895600-1781974800@lehrhaus.de
SUMMARY:„Um was geht‘s jetzt eigentlich?“
DESCRIPTION:Themenzentrierung in der tf TZI: das HIER- und JETZT Prinzip \nGeht es uns nicht oft so: wir sind in einer Teamsitzung\, in einem Seminar\, in einer Gruppensitzung und eigentlich ist das Thema vorgegeben. Dennoch entwickelt sich im Gespräch der Teilnehmenden eine eigene Dynamik. Das Thema wandelt sich. In einer solchen Situation ist es eine Kunst\, herauszufinden\, welche Unter-Themen im Raum sind\, die die Oberhand gewinnen. Das Seminar zeigt Möglichkeiten und Grenzen der Themenzentrierung auf. \nDas Seminar ist vorzugsweise gedacht für die titelführenden Mitglieder des Institut Simone Weil. Andere Interessenten sind herzlich willkommen. \nAnmeldung bis: 25. Mai 2026 über den Ticketverkauf auf der Homepage www.lehrhaus.de \nKosten: 150 Euro \nLeitung: Ruth Seubert\, Dr. Bettina-Sophia Karwath
URL:https://lehrhaus.de/event/um-was-gehts-jetzt-eigentlich/
ATTACH;FMTTYPE=image/jpeg:https://lehrhaus.de/wp-content/uploads/2026/03/Berlin_Jued.Friedhof-1-rotated.jpg
END:VEVENT
BEGIN:VEVENT
DTSTART;VALUE=DATE:20260813
DTEND;VALUE=DATE:20260814
DTSTAMP:20260419T192425
CREATED:20251117T174311Z
LAST-MODIFIED:20260202T083900Z
UID:10000111-1786579200-1786665599@lehrhaus.de
SUMMARY:Leitung braucht Beteiligung
DESCRIPTION:Zertifizierte Weiterbildung 2026-2028 \nAb August 2026 findet ein Weiterbildungskurs in unserer methode der tf TZI statt.\nInteressenten können am Orientierungsseminar vom 13.-15. März 2026 „Träume – ein Weg zum inneren Menschen“ teilnehmen. \nAlle weiteren Informationen finden Sie hier: Ausschreibung_2j_2026
URL:https://lehrhaus.de/event/konfliktdiagnose-und-konfliktintervention-in-dr-tf-tzi-copy/
LOCATION:Lehrhaus für Psychologie und Spiritualität Institut Simone Weil\, Friedenstraße 14\, 97828 Marktheidenfeld\, Deutschland
ATTACH;FMTTYPE=image/jpeg:https://lehrhaus.de/wp-content/uploads/2023/11/Favicon-min.jpg
END:VEVENT
END:VCALENDAR